BEGIN:VCALENDAR
VERSION:2.0
PRODID:https://www.kufer.de/kuferweb / DE
METHOD:PUBLISH
CALSCALE:GREGORIAN
X-WR-TIMEZONE:Europe/Berlin
BEGIN:VTIMEZONE
TZID:Europe/Berlin
X-LIC-LOCATION:Europe/Berlin
BEGIN:DAYLIGHT
TZOFFSETFROM:+0100
TZOFFSETTO:+0200
TZNAME:CEST
DTSTART:19700329T020000
RRULE:FREQ=YEARLY;INTERVAL=1;BYDAY=-1SU;BYMONTH=3
END:DAYLIGHT
BEGIN:STANDARD
TZOFFSETFROM:+0200
TZOFFSETTO:+0100
TZNAME:CET
DTSTART:19701025T030000
RRULE:FREQ=YEARLY;INTERVAL=1;BYDAY=-1SU;BYMONTH=10
END:STANDARD
END:VTIMEZONE
BEGIN:VEVENT
DTSTAMP:20260425T190359
DTSTART;TZID=Europe/Berlin:20270310T140000
DTEND;TZID=Europe/Berlin:20270310T170000
UID:27-101-01-20270310T140000@AMT FÜR VOLKSSCHULEN
SUMMARY:Frühe literale Bildung: Leseanimation als Geschichtenzeit (27-101-01) 
LOCATION:Pratteln, Laufbahnzentrum, Wildenstein 1, Schlossstrasse 1, 4133 Pratteln
END:VEVENT
END:VCALENDAR